BEGIN:VCALENDAR
VERSION:2.0
PRODID:-//Mayo North - ECPv4.2.3//NONSGML v1.0//EN
CALSCALE:GREGORIAN
METHOD:PUBLISH
X-WR-CALNAME:Mayo North
X-ORIGINAL-URL:http://www.northmayo.ie
X-WR-CALDESC:Events for Mayo North
BEGIN:VEVENT
DTSTART;VALUE=DATE:20171009
DTEND;VALUE=DATE:20171031
DTSTAMP:20171106T030251
CREATED:20170829
LAST-MODIFIED:20170829
UID:7442-1507507200-1509494399@www.northmayo.ie
SUMMARY:Exhibition: Buildings of County Mayo at the North Mayo Heritage Centre
DESCRIPTION:http://www.northmayo.ie/buildings-of-county-mayo-exhibition/
URL:http://www.northmayo.ie/event/exhibition-buildings-county-mayo-north-mayo-heritage-centre/
LOCATION:Enniscoe\, Crossmolina\, Ireland
ORGANIZER;CN="Hugh%20%40%20North%20Mayo%20Heritage%20Centre":MAILTO:northmayo@gmail.com
END:VEVENT
BEGIN:VEVENT
DTSTART;VALUE=DATE:20171028
DTEND;VALUE=DATE:20171030
DTSTAMP:20171106T030251
CREATED:20170117
LAST-MODIFIED:20170117
UID:5970-1509148800-1509407999@www.northmayo.ie
SUMMARY:Feile na Samhna
DESCRIPTION:Halloween festival celebrating Irish music\, culture\, myth and legend
URL:http://www.northmayo.ie/event/feile-na-samhna/
LOCATION:Swinford \, Co. Mayo \, Ireland
CATEGORIES:Festivals
ATTACH;FMTTYPE=image/png:http://www.northmayo.ie/wp-content/uploads/2016/10/Foxford-Trad-weekend-2016.png
END:VEVENT
END:VCALENDAR